BEGIN:VCALENDAR
VERSION:2.0
PRODID:-//Summit County Humane Society - ECPv6.15.18//NONSGML v1.0//EN
CALSCALE:GREGORIAN
METHOD:PUBLISH
X-WR-CALNAME:Summit County Humane Society
X-ORIGINAL-URL:https://summithumane.org
X-WR-CALDESC:Events for Summit County Humane Society
REFRESH-INTERVAL;VALUE=DURATION:PT1H
X-Robots-Tag:noindex
X-PUBLISHED-TTL:PT1H
BEGIN:VTIMEZONE
TZID:America/New_York
BEGIN:DAYLIGHT
TZOFFSETFROM:-0500
TZOFFSETTO:-0400
TZNAME:EDT
DTSTART:20240310T070000
END:DAYLIGHT
BEGIN:STANDARD
TZOFFSETFROM:-0400
TZOFFSETTO:-0500
TZNAME:EST
DTSTART:20241103T060000
END:STANDARD
BEGIN:DAYLIGHT
TZOFFSETFROM:-0500
TZOFFSETTO:-0400
TZNAME:EDT
DTSTART:20250309T070000
END:DAYLIGHT
BEGIN:STANDARD
TZOFFSETFROM:-0400
TZOFFSETTO:-0500
TZNAME:EST
DTSTART:20251102T060000
END:STANDARD
BEGIN:DAYLIGHT
TZOFFSETFROM:-0500
TZOFFSETTO:-0400
TZNAME:EDT
DTSTART:20260308T070000
END:DAYLIGHT
BEGIN:STANDARD
TZOFFSETFROM:-0400
TZOFFSETTO:-0500
TZNAME:EST
DTSTART:20261101T060000
END:STANDARD
END:VTIMEZONE
BEGIN:VEVENT
DTSTART;VALUE=DATE:20250201
DTEND;VALUE=DATE:20250301
DTSTAMP:20260421T134749
CREATED:20250201T160053Z
LAST-MODIFIED:20250203T160620Z
UID:1893-1738368000-1740787199@summithumane.org
SUMMARY:Paws for Heroes
DESCRIPTION:[vc_row type=”full_width_background” full_screen_row_position=”middle” column_margin=”default” column_direction=”default” column_direction_tablet=”default” column_direction_phone=”default” scene_position=”center” text_color=”dark” text_align=”left” row_border_radius=”none” row_border_radius_applies=”bg” overflow=”visible” overlay_strength=”0.3″ gradient_direction=”left_to_right” shape_divider_position=”bottom” bg_image_animation=”none” gradient_type=”default” shape_type=””][vc_column column_padding=”no-extra-padding” column_padding_tablet=”inherit” column_padding_phone=”inherit” column_padding_position=”all” column_element_direction_desktop=”default” column_element_spacing=”default” desktop_text_alignment=”default” tablet_text_alignment=”default” phone_text_alignment=”default” background_color_opacity=”1″ background_hover_color_opacity=”1″ column_backdrop_filter=”none” column_shadow=”none” column_border_radius=”none” column_link_target=”_self” column_position=”default” gradient_direction=”left_to_right” overlay_strength=”0.3″ width=”5/6″ tablet_width_inherit=”default” animation_type=”default” bg_image_animation=”none” border_type=”simple” column_border_width=”none” column_border_style=”solid”][nectar_responsive_text font_size_desktop=”1.5vw” font_line_height=”2″ text_direction=”default”]FREE adoptions for First Responders February 1 – 28\nThanks to HSSC volunteer and donor Kristen Manes\, all adoption fees for first responders are waived during the month of February. Kristen is sponsoring this special adoption event in memory of her late husband\, Lieutenant Scott Manes\, who was a firefighter\, paramedic\, and fire/EMS instructor. Scott had a special love for pets\, especially pitbulls\, and would always meet a sweet dog or puppy on his paramedic calls. Kristen says\, “I understand how pets help us through the tough days in our lives\, and wanted to give back to our First Responders in a meaningful way.” \nDrop in visitors are welcome! Adoption hours are 11 am – 6 pm weekdays and 11 am – 5 pm weekends.[/nectar_responsive_text][/vc_column][vc_column column_padding=”no-extra-padding” column_padding_tablet=”inherit” column_padding_phone=”inherit” column_padding_position=”all” column_element_direction_desktop=”default” column_element_spacing=”default” desktop_text_alignment=”default” tablet_text_alignment=”default” phone_text_alignment=”default” background_color_opacity=”1″ background_hover_color_opacity=”1″ column_backdrop_filter=”none” column_shadow=”none” column_border_radius=”none” column_link_target=”_self” column_position=”default” gradient_direction=”left_to_right” overlay_strength=”0.3″ width=”1/6″ tablet_width_inherit=”default” animation_type=”default” bg_image_animation=”none” border_type=”simple” column_border_width=”none” column_border_style=”solid”][/vc_column][/vc_row]
URL:https://summithumane.org/event/paws-for-heroes/
LOCATION:Humane Society of Summit County\, 752 West Portage Trail\, Akron\, OH\, 44313\, United States
CATEGORIES:Community Events
ATTACH;FMTTYPE=image/jpeg:https://summithumane.org/wp-content/uploads/2025/02/paws-for-heroes.jpg
END:VEVENT
BEGIN:VEVENT
DTSTART;VALUE=DATE:20250214
DTEND;VALUE=DATE:20250217
DTSTAMP:20260421T134749
CREATED:20250203T160339Z
LAST-MODIFIED:20250203T160339Z
UID:1898-1739491200-1739750399@summithumane.org
SUMMARY:Paws for Love
DESCRIPTION:[vc_row type=”full_width_background” full_screen_row_position=”middle” column_margin=”default” column_direction=”default” column_direction_tablet=”default” column_direction_phone=”default” scene_position=”center” text_color=”dark” text_align=”left” row_border_radius=”none” row_border_radius_applies=”bg” overflow=”visible” overlay_strength=”0.3″ gradient_direction=”left_to_right” shape_divider_position=”bottom” bg_image_animation=”none” gradient_type=”default” shape_type=””][vc_column column_padding=”no-extra-padding” column_padding_tablet=”inherit” column_padding_phone=”inherit” column_padding_position=”all” column_element_direction_desktop=”default” column_element_spacing=”default” desktop_text_alignment=”default” tablet_text_alignment=”default” phone_text_alignment=”default” background_color_opacity=”1″ background_hover_color_opacity=”1″ column_backdrop_filter=”none” column_shadow=”none” column_border_radius=”none” column_link_target=”_self” column_position=”default” gradient_direction=”left_to_right” overlay_strength=”0.3″ width=”5/6″ tablet_width_inherit=”default” animation_type=”default” bg_image_animation=”none” border_type=”simple” column_border_width=”none” column_border_style=”solid”][nectar_responsive_text font_size_desktop=”1.5vw” font_line_height=”2″ text_direction=”default”]FREE adoptions February 14-16\nWhat better way to celebrate Valentine’s Day this year than giving a lonely pet a heart and home to call their own? When you visit the HSSC shelter between February 14 – 16\, you can adopt any cat or dog one year or older for FREE\, pending application approval! The love you provide your new fur-ever Valentine will be the love of their lifetime. \nDrop in visitors are welcome! Adoption hours are 11 am – 6 pm weekdays and 11 am – 5 pm weekends.[/nectar_responsive_text][/vc_column][vc_column column_padding=”no-extra-padding” column_padding_tablet=”inherit” column_padding_phone=”inherit” column_padding_position=”all” column_element_direction_desktop=”default” column_element_spacing=”default” desktop_text_alignment=”default” tablet_text_alignment=”default” phone_text_alignment=”default” background_color_opacity=”1″ background_hover_color_opacity=”1″ column_backdrop_filter=”none” column_shadow=”none” column_border_radius=”none” column_link_target=”_self” column_position=”default” gradient_direction=”left_to_right” overlay_strength=”0.3″ width=”1/6″ tablet_width_inherit=”default” animation_type=”default” bg_image_animation=”none” border_type=”simple” column_border_width=”none” column_border_style=”solid”][/vc_column][/vc_row]
URL:https://summithumane.org/event/paws-for-love/
LOCATION:Humane Society of Summit County\, 752 West Portage Trail\, Akron\, OH\, 44313\, United States
CATEGORIES:Community Events
ATTACH;FMTTYPE=image/jpeg:https://summithumane.org/wp-content/uploads/2025/02/paws-for-love.jpg
END:VEVENT
END:VCALENDAR