BEGIN:VCALENDAR
VERSION:2.0
PRODID:-//Summit County Humane Society - ECPv6.15.18//NONSGML v1.0//EN
CALSCALE:GREGORIAN
METHOD:PUBLISH
X-ORIGINAL-URL:https://summithumane.org
X-WR-CALDESC:Events for Summit County Humane Society
REFRESH-INTERVAL;VALUE=DURATION:PT1H
X-Robots-Tag:noindex
X-PUBLISHED-TTL:PT1H
BEGIN:VTIMEZONE
TZID:America/New_York
BEGIN:DAYLIGHT
TZOFFSETFROM:-0500
TZOFFSETTO:-0400
TZNAME:EDT
DTSTART:20250309T070000
END:DAYLIGHT
BEGIN:STANDARD
TZOFFSETFROM:-0400
TZOFFSETTO:-0500
TZNAME:EST
DTSTART:20251102T060000
END:STANDARD
BEGIN:DAYLIGHT
TZOFFSETFROM:-0500
TZOFFSETTO:-0400
TZNAME:EDT
DTSTART:20260308T070000
END:DAYLIGHT
BEGIN:STANDARD
TZOFFSETFROM:-0400
TZOFFSETTO:-0500
TZNAME:EST
DTSTART:20261101T060000
END:STANDARD
BEGIN:DAYLIGHT
TZOFFSETFROM:-0500
TZOFFSETTO:-0400
TZNAME:EDT
DTSTART:20270314T070000
END:DAYLIGHT
BEGIN:STANDARD
TZOFFSETFROM:-0400
TZOFFSETTO:-0500
TZNAME:EST
DTSTART:20271107T060000
END:STANDARD
END:VTIMEZONE
BEGIN:VEVENT
DTSTART;TZID=America/New_York:20260829T180000
DTEND;TZID=America/New_York:20260829T210000
DTSTAMP:20260420T203829
CREATED:20240703T183047Z
LAST-MODIFIED:20260127T174354Z
UID:401-1788026400-1788037200@summithumane.org
SUMMARY:26th Annual Pawsibility Ball
DESCRIPTION:[vc_row type=”full_width_background” full_screen_row_position=”middle” column_margin=”default” column_direction=”default” column_direction_tablet=”default” column_direction_phone=”default” bg_color=”#2d8aac” scene_position=”center” top_padding=”2%” constrain_group_1=”yes” bottom_padding=”2%” top_margin=”-4%” text_color=”dark” text_align=”left” row_border_radius=”none” row_border_radius_applies=”bg” overflow=”visible” disable_element=”yes” overlay_strength=”0.3″ gradient_direction=”left_to_right” shape_divider_position=”bottom” bg_image_animation=”none” shape_type=”” gradient_type=”default”][vc_column column_padding=”no-extra-padding” column_padding_tablet=”inherit” column_padding_phone=”inherit” column_padding_position=”all” column_element_direction_desktop=”default” column_element_spacing=”20px” centered_text=”true” desktop_text_alignment=”default” tablet_text_alignment=”default” phone_text_alignment=”default” background_color_opacity=”1″ background_hover_color_opacity=”1″ column_backdrop_filter=”none” column_shadow=”none” column_border_radius=”none” column_link_target=”_self” column_position=”default” gradient_direction=”left_to_right” overlay_strength=”0.3″ width=”1/1″ tablet_width_inherit=”default” animation_type=”default” bg_image_animation=”none” border_type=”simple” column_border_width=”none” column_border_style=”solid” column_padding_type=”default” gradient_type=”default”][nectar_responsive_text text_color=”#ffffff” text_direction=”default”]\n25th Annual Pawsibility Ball\n  \nMore Details Coming Soon!\n[/nectar_responsive_text][divider line_type=”No Line” custom_height=”30″][nectar_btn size=”large” constrain_group_2=”yes” open_new_tab=”true” button_style=”regular” button_color_2=”Accent-Color” solid_text_color_override=”#ffffff” icon_family=”none” text=”SPONSOR OR ATTEND!” url=”https://e.givesmart.com/events/AaV/” margin_left=”10px” margin_right=”10px”][nectar_btn size=”large” constrain_group_2=”yes” open_new_tab=”true” button_style=”regular” button_color_2=”Accent-Color” solid_text_color_override=”#ffffff” icon_family=”none” text=”2025 SPONSORS” margin_left=”10px” margin_right=”10px” url=”/pawsibility-ball-sponsors”][/vc_column][/vc_row][vc_row type=”full_width_background” full_screen_row_position=”middle” column_margin=”default” column_direction=”default” column_direction_tablet=”default” column_direction_phone=”default” bg_color=”#f3724e” scene_position=”center” top_padding=”2%” constrain_group_1=”yes” bottom_padding=”2%” top_margin=”0%” text_color=”dark” text_align=”left” row_border_radius=”none” row_border_radius_applies=”bg” overflow=”visible” overlay_strength=”0.3″ gradient_direction=”left_to_right” shape_divider_position=”bottom” bg_image_animation=”none” shape_type=”” gradient_type=”default”][vc_column column_padding=”no-extra-padding” column_padding_tablet=”inherit” column_padding_phone=”inherit” column_padding_position=”all” column_element_direction_desktop=”default” column_element_spacing=”20px” centered_text=”true” desktop_text_alignment=”default” tablet_text_alignment=”default” phone_text_alignment=”default” background_color_opacity=”1″ background_hover_color_opacity=”1″ column_backdrop_filter=”none” column_shadow=”none” column_border_radius=”none” column_link_target=”_self” column_position=”default” gradient_direction=”left_to_right” overlay_strength=”0.3″ width=”1/1″ tablet_width_inherit=”default” animation_type=”default” bg_image_animation=”none” border_type=”simple” column_border_width=”none” column_border_style=”solid” column_padding_type=”default” gradient_type=”default”][nectar_responsive_text text_color=”#ffffff” text_direction=”default”]\nSAVE THE DATE!\n[/nectar_responsive_text][nectar_responsive_text text_color=”#ffffff” text_direction=”default”]\nSaturday\, August 29\, 2026\n6-9 PM\nHouse Three-Thirty\n[/nectar_responsive_text][nectar_btn size=”large” button_style=”regular” button_color_2=”Extra-Color-1″ solid_text_color_override=”#ffffff” icon_family=”none” text=”PURCHASE SPONSORSHIPS & TICKETS” url=”https://nam10.safelinks.protection.outlook.com/?url=https%3A%2F%2Fpball2026.givesmart.com%2F&data=05%7C02%7Ccrepie%40summithumane.org%7Cbe372603aa0a41bfd82708de58fc9309%7C243dc5f7eb3c4c909edcd4cea67ad21c%7C0%7C0%7C639046038978909047%7CUnknown%7CTWFpbGZsb3d8eyJFbXB0eU1hcGkiOnRydWUsIlYiOiIwLjAuMDAwMCIsIlAiOiJXaW4zMiIsIkFOIjoiTWFpbCIsIldUIjoyfQ%3D%3D%7C0%7C%7C%7C&sdata=neih%2BejFz5E00zNkgVlmyMfTYIhL9ZctM%2FVSgmyaMFs%3D&reserved=0″ css_animation=”none”][/vc_column][/vc_row][vc_row type=”full_width_background” full_screen_row_position=”middle” column_margin=”80px” column_direction=”default” column_direction_tablet=”default” column_direction_phone=”default” bg_color=”rgba(45\,138\,172\,0.1)” scene_position=”center” top_padding=”5%” constrain_group_1=”yes” bottom_padding=”5%” left_padding_desktop=”5%” constrain_group_2=”yes” right_padding_desktop=”5%” text_color=”dark” text_align=”left” row_border_radius=”none” row_border_radius_applies=”bg” overflow=”visible” disable_element=”yes” overlay_strength=”0.3″ gradient_direction=”left_to_right” shape_divider_position=”bottom” bg_image_animation=”none” gradient_type=”default” shape_type=””][vc_column constrain_group_100=”yes” constrain_group_1=”yes” column_element_direction_desktop=”default” column_element_spacing=”default” desktop_text_alignment=”center” tablet_text_alignment=”default” phone_text_alignment=”default” background_color_opacity=”1″ background_hover_color_opacity=”1″ column_backdrop_filter=”none” column_shadow=”none” column_border_radius=”none” column_link_target=”_self” column_position=”default” gradient_direction=”left_to_right” overlay_strength=”0.3″ width=”2/3″ tablet_width_inherit=”default” animation_type=”default” bg_image_animation=”none” border_type=”simple” column_border_width=”none” column_border_style=”solid” column_padding_type=”advanced” gradient_type=”default”][nectar_responsive_text text_color=”#000000″ text_direction=”default”]\nThe Humane Society of Summit County cordially invites you to the Pawsibility Ball\, our annual celebration of the beloved pets that bring joy to our lives and the Animal Heroes who make our rescue efforts possible.\n  \nThe Pawsibility Ball is our shelter’s signature annual fundraising gala dinner and auction attended by 400 passionate animal advocates\, as well as local business and community leaders. All proceeds benefit the 2\,500 animals who will be rescued\, rehabilitated\, and adopted through HSSC this year.\n  \nGuests will enjoy: \nCocktail hour and a gourmet dinner \nSilent Auction \nMoving tributes to our 2024 Animal Heroes\, Judy Steiner and John Krajewski \nAn unforgettable showcase of adoptable cats\, dogs\, and critters who are saved through your support \n[/nectar_responsive_text][/vc_column][vc_column column_padding=”no-extra-padding” column_padding_tablet=”inherit” column_padding_phone=”inherit” column_padding_position=”all” column_element_direction_desktop=”default” column_element_spacing=”default” desktop_text_alignment=”default” tablet_text_alignment=”default” phone_text_alignment=”default” background_color_opacity=”1″ background_hover_color_opacity=”1″ column_backdrop_filter=”none” column_shadow=”none” column_border_radius=”none” column_link_target=”_self” column_position=”default” gradient_direction=”left_to_right” overlay_strength=”0.3″ width=”1/3″ tablet_width_inherit=”default” animation_type=”default” bg_image_animation=”none” border_type=”simple” column_border_width=”none” column_border_style=”solid”][image_with_animation image_url=”1026″ image_size=”full” animation_type=”entrance” animation=”None” animation_movement_type=”transform_y” hover_animation=”none” alignment=”” border_radius=”none” box_shadow=”none” image_loading=”default” max_width=”100%” max_width_mobile=”default”][nectar_responsive_text text_direction=”default”]\nMaster of Ceremonies\nMatt Wintz\, Senior Meteorologist at WKYC\n[/nectar_responsive_text][/vc_column][/vc_row]
URL:https://summithumane.org/event/26th-pawsibility-ball/
LOCATION:OH
CATEGORIES:Special Events
ATTACH;FMTTYPE=image/jpeg:https://summithumane.org/wp-content/uploads/2026/01/2026-paws-ball-hero-2.jpg
END:VEVENT
END:VCALENDAR