BEGIN:VCALENDAR
VERSION:2.0
PRODID:-//Summit County Humane Society - ECPv6.15.18//NONSGML v1.0//EN
CALSCALE:GREGORIAN
METHOD:PUBLISH
X-WR-CALNAME:Summit County Humane Society
X-ORIGINAL-URL:https://summithumane.org
X-WR-CALDESC:Events for Summit County Humane Society
REFRESH-INTERVAL;VALUE=DURATION:PT1H
X-Robots-Tag:noindex
X-PUBLISHED-TTL:PT1H
BEGIN:VTIMEZONE
TZID:America/New_York
BEGIN:DAYLIGHT
TZOFFSETFROM:-0500
TZOFFSETTO:-0400
TZNAME:EDT
DTSTART:20240310T070000
END:DAYLIGHT
BEGIN:STANDARD
TZOFFSETFROM:-0400
TZOFFSETTO:-0500
TZNAME:EST
DTSTART:20241103T060000
END:STANDARD
BEGIN:DAYLIGHT
TZOFFSETFROM:-0500
TZOFFSETTO:-0400
TZNAME:EDT
DTSTART:20250309T070000
END:DAYLIGHT
BEGIN:STANDARD
TZOFFSETFROM:-0400
TZOFFSETTO:-0500
TZNAME:EST
DTSTART:20251102T060000
END:STANDARD
BEGIN:DAYLIGHT
TZOFFSETFROM:-0500
TZOFFSETTO:-0400
TZNAME:EDT
DTSTART:20260308T070000
END:DAYLIGHT
BEGIN:STANDARD
TZOFFSETFROM:-0400
TZOFFSETTO:-0500
TZNAME:EST
DTSTART:20261101T060000
END:STANDARD
END:VTIMEZONE
BEGIN:VEVENT
DTSTART;VALUE=DATE:20250305
DTEND;VALUE=DATE:20250623
DTSTAMP:20260421T164205
CREATED:20250304T151911Z
LAST-MODIFIED:20250304T152036Z
UID:1935-1741132800-1750636799@summithumane.org
SUMMARY:Chip in Fore Charity Program
DESCRIPTION:[vc_row type=”full_width_background” full_screen_row_position=”middle” column_margin=”default” column_direction=”default” column_direction_tablet=”default” column_direction_phone=”default” scene_position=”center” text_color=”dark” text_align=”left” row_border_radius=”none” row_border_radius_applies=”bg” overflow=”visible” overlay_strength=”0.3″ gradient_direction=”left_to_right” shape_divider_position=”bottom” bg_image_animation=”none” gradient_type=”default” shape_type=””][vc_column column_padding=”no-extra-padding” column_padding_tablet=”inherit” column_padding_phone=”inherit” column_padding_position=”all” column_element_direction_desktop=”default” column_element_spacing=”default” desktop_text_alignment=”default” tablet_text_alignment=”default” phone_text_alignment=”default” background_color_opacity=”1″ background_hover_color_opacity=”1″ column_backdrop_filter=”none” column_shadow=”none” column_border_radius=”none” column_link_target=”_self” column_position=”default” gradient_direction=”left_to_right” overlay_strength=”0.3″ width=”2/3″ tablet_width_inherit=”default” animation_type=”default” bg_image_animation=”none” border_type=”simple” column_border_width=”none” column_border_style=”solid”][nectar_responsive_text font_size_desktop=”1.5vw” font_line_height=”2″ text_direction=”default”]\n\nChip in Fore Charity presented by Fastenal Company is a fundraising platform\, operating in conjunction with the Kaulig Companies Championship that enables local charitable organizations to receive a 10% bonus on charitable contributions (maximum bonus of $10\,000 per charity; $100\,000 for the entire program).\n\n\nFor additional information or questions\, please contact Allie Grilliot\,Tournament Sponsorship & Community Activation for the Kaulig Companies Championship \n Alexandriagrilliot@pgatourhq.com \n\n\n[/nectar_responsive_text][/vc_column][vc_column column_padding=”no-extra-padding” column_padding_tablet=”inherit” column_padding_phone=”inherit” column_padding_position=”all” column_element_direction_desktop=”default” column_element_spacing=”default” desktop_text_alignment=”default” tablet_text_alignment=”default” phone_text_alignment=”default” background_color_opacity=”1″ background_hover_color_opacity=”1″ column_backdrop_filter=”none” column_shadow=”none” column_border_radius=”none” column_link_target=”_self” column_position=”default” gradient_direction=”left_to_right” overlay_strength=”0.3″ width=”1/3″ tablet_width_inherit=”default” animation_type=”default” bg_image_animation=”none” border_type=”simple” column_border_width=”none” column_border_style=”solid”][nectar_btn size=”jumbo” open_new_tab=”true” button_style=”regular” button_color_2=”Accent-Color” solid_text_color_override=”#ffffff” icon_family=”none” text=”Download Flyer” url=”https://summithumane.org/wp-content/uploads/2025/03/Donation-Guide-2025-Chip-in-Fore-Charity-presented-by-Fastenal-Company.pdf”][/vc_column][/vc_row]
URL:https://summithumane.org/event/chip-in-fore-charity-program/
LOCATION:Firestone Country Club\, South Course\, 452 East Warner Road\, Akron\, Ohio\, 44319
CATEGORIES:Community Events
ATTACH;FMTTYPE=image/jpeg:https://summithumane.org/wp-content/uploads/2025/03/chip-in-fore-charity-2.jpg
END:VEVENT
BEGIN:VEVENT
DTSTART;TZID=America/New_York:20250406T170000
DTEND;TZID=America/New_York:20250406T230000
DTSTAMP:20260421T164205
CREATED:20250304T152214Z
LAST-MODIFIED:20250304T152146Z
UID:1926-1743958800-1743980400@summithumane.org
SUMMARY:Not Forgotten - A Tribute to John Prine
DESCRIPTION:[vc_row type=”full_width_background” full_screen_row_position=”middle” column_margin=”default” column_direction=”default” column_direction_tablet=”default” column_direction_phone=”default” scene_position=”center” text_color=”dark” text_align=”left” row_border_radius=”none” row_border_radius_applies=”bg” overflow=”visible” overlay_strength=”0.3″ gradient_direction=”left_to_right” shape_divider_position=”bottom” bg_image_animation=”none” gradient_type=”default” shape_type=””][vc_column column_padding=”no-extra-padding” column_padding_tablet=”inherit” column_padding_phone=”inherit” column_padding_position=”all” column_element_direction_desktop=”default” column_element_spacing=”default” desktop_text_alignment=”default” tablet_text_alignment=”default” phone_text_alignment=”default” background_color_opacity=”1″ background_hover_color_opacity=”1″ column_backdrop_filter=”none” column_shadow=”none” column_border_radius=”none” column_link_target=”_self” column_position=”default” gradient_direction=”left_to_right” overlay_strength=”0.3″ width=”2/3″ tablet_width_inherit=”default” animation_type=”default” bg_image_animation=”none” border_type=”simple” column_border_width=”none” column_border_style=”solid”][nectar_responsive_text font_size_desktop=”1.5vw” font_line_height=”2″ text_direction=”default”]\n4th ANNUAL JOHN PRINE TRIBUTE SHOW!This charity event will feature over two hours of John Prine’s best songs performed by over a dozen of the area’s most talented musicians.\nPerformances by:Ben GageHunter SkeensLauren BrabsonMike LenzMichael Sean McDonaldZach HamlinMarilyn DirrigGreg AdamsMike GregoryAdam BrownMatt HarmonKevin BrosienLee McCordRalph Obert\n\n100% of proceeds will support two local non-profit organizations: the Humane Society of Summit County (HSSC)\, and Vantage Aging (providing services like meals-on-wheels).\nFacebook Event \nTickets[/nectar_responsive_text][/vc_column][vc_column column_padding=”no-extra-padding” column_padding_tablet=”inherit” column_padding_phone=”inherit” column_padding_position=”all” column_element_direction_desktop=”default” column_element_spacing=”default” desktop_text_alignment=”default” tablet_text_alignment=”default” phone_text_alignment=”default” background_color_opacity=”1″ background_hover_color_opacity=”1″ column_backdrop_filter=”none” column_shadow=”none” column_border_radius=”none” column_link_target=”_self” column_position=”default” gradient_direction=”left_to_right” overlay_strength=”0.3″ width=”1/3″ tablet_width_inherit=”default” animation_type=”default” bg_image_animation=”none” border_type=”simple” column_border_width=”none” column_border_style=”solid”][nectar_btn size=”jumbo” open_new_tab=”true” button_style=”regular” button_color_2=”Accent-Color” solid_text_color_override=”#ffffff” icon_family=”none” text=”Download Flyer” url=”https://summithumane.org/wp-content/uploads/2025/03/flyer2.png”][/vc_column][/vc_row]
URL:https://summithumane.org/event/not-forgotten-a-tribute-to-john-prine/
LOCATION:Jilly’s Music Room\, 111 N Main St\, Akron\, OH\, United States
CATEGORIES:Community Events
ATTACH;FMTTYPE=image/jpeg:https://summithumane.org/wp-content/uploads/2025/03/prine-tribute-2.jpg
END:VEVENT
BEGIN:VEVENT
DTSTART;TZID=America/New_York:20250425T180000
DTEND;TZID=America/New_York:20250425T210000
DTSTAMP:20260421T164205
CREATED:20240729T193926Z
LAST-MODIFIED:20241030T121734Z
UID:631-1745604000-1745614800@summithumane.org
SUMMARY:Bow Wow Bingo
DESCRIPTION:[vc_row type=”full_width_background” full_screen_row_position=”middle” column_margin=”default” column_direction=”default” column_direction_tablet=”default” column_direction_phone=”default” bg_color=”#2d8aac” scene_position=”center” top_padding=”2%” constrain_group_1=”yes” bottom_padding=”2%” top_margin=”-4%” text_color=”dark” text_align=”left” row_border_radius=”none” row_border_radius_applies=”bg” overflow=”visible” overlay_strength=”0.3″ gradient_direction=”left_to_right” shape_divider_position=”bottom” bg_image_animation=”none” shape_type=”” gradient_type=”default”][vc_column column_padding=”no-extra-padding” column_padding_tablet=”inherit” column_padding_phone=”inherit” column_padding_position=”all” column_element_direction_desktop=”default” column_element_spacing=”default” desktop_text_alignment=”default” tablet_text_alignment=”default” phone_text_alignment=”default” background_color_opacity=”1″ background_hover_color_opacity=”1″ column_backdrop_filter=”none” column_shadow=”none” column_border_radius=”none” column_link_target=”_self” column_position=”default” gradient_direction=”left_to_right” overlay_strength=”0.3″ width=”1/1″ tablet_width_inherit=”default” animation_type=”default” bg_image_animation=”none” border_type=”simple” column_border_width=”none” column_border_style=”solid”][nectar_responsive_text text_color=”#ffffff” text_direction=”default”]\nJoin the Humane Society of Summit County for eight fast-paced rounds of exciting Bingo with fabulous prizes! Guests will enjoy a delicious dinner and dessert\, basket raffle\, cash bar with beer and wine\, and hanging out with adoptable pets!\n[/nectar_responsive_text][/vc_column][/vc_row][vc_row type=”full_width_background” full_screen_row_position=”middle” column_margin=”default” equal_height=”yes” content_placement=”middle” column_direction=”default” column_direction_tablet=”default” column_direction_phone=”default” scene_position=”center” constrain_group_1=”yes” top_margin=”50px” text_color=”dark” text_align=”left” row_border_radius=”none” row_border_radius_applies=”bg” overflow=”visible” overlay_strength=”0.3″ gradient_direction=”left_to_right” shape_divider_position=”bottom” bg_image_animation=”none” gradient_type=”default” shape_type=””][vc_column top_padding_desktop=”5%” constrain_group_100=”yes” bottom_padding_desktop=”5%” constrain_group_1=”yes” column_element_direction_desktop=”default” column_element_spacing=”default” centered_text=”true” desktop_text_alignment=”center” tablet_text_alignment=”default” phone_text_alignment=”default” background_color=”#f3724e” background_color_opacity=”1″ background_hover_color_opacity=”1″ column_backdrop_filter=”none” column_shadow=”none” column_border_radius=”none” column_link_target=”_self” column_position=”default” gradient_direction=”left_to_right” overlay_strength=”0.3″ width=”1/2″ tablet_width_inherit=”default” animation_type=”default” bg_image_animation=”none” border_type=”simple” column_border_width=”none” column_border_style=”solid” column_padding_type=”advanced” gradient_type=”default”][nectar_responsive_text text_color=”#ffffff” text_direction=”default”]\nFriday\, April 25\, 2025\n6 p.m. – 9 p.m.\n  \nSt. George Fellowship Center \n3204 Ridgewood Road \nAkron 44333 \n  \nAdditional information and opportunity to buy tickets coming. \n[/nectar_responsive_text][/vc_column][vc_column column_padding=”no-extra-padding” column_padding_tablet=”inherit” column_padding_phone=”inherit” column_padding_position=”all” column_element_direction_desktop=”default” column_element_spacing=”default” desktop_text_alignment=”default” tablet_text_alignment=”default” phone_text_alignment=”default” background_color_opacity=”1″ background_hover_color_opacity=”1″ column_backdrop_filter=”none” column_shadow=”none” column_border_radius=”none” column_link_target=”_self” column_position=”default” gradient_direction=”left_to_right” overlay_strength=”0.3″ width=”1/2″ tablet_width_inherit=”default” animation_type=”default” bg_image_animation=”none” border_type=”simple” column_border_width=”none” column_border_style=”solid”][nectar_responsive_text text_direction=”default”]\nBow Wow Bingo Sponsorships\nWe offer various levels of sponsorships that make sense for you! Each level of sponsorship will enjoy promotional opportunities before and during the event\, inclusion in printed and digital materials\, complimentary tickets to attend the event. Sponsoring is a great way to support animal rescue in our community! \nView Sponsorship Options \nFor more information\, please contact our Director of Development and Outreach\, Colleen Repie\, at crepie@summithumane.org or (234) 212-9679.[/nectar_responsive_text][/vc_column][/vc_row][vc_row type=”in_container” full_screen_row_position=”middle” column_margin=”default” column_direction=”default” column_direction_tablet=”default” column_direction_phone=”default” scene_position=”center” text_color=”dark” text_align=”left” row_border_radius=”none” row_border_radius_applies=”bg” overflow=”visible” overlay_strength=”0.3″ gradient_direction=”left_to_right” shape_divider_position=”bottom” bg_image_animation=”none”][vc_column column_padding=”no-extra-padding” column_padding_tablet=”inherit” column_padding_phone=”inherit” column_padding_position=”all” column_element_direction_desktop=”default” column_element_spacing=”default” desktop_text_alignment=”default” tablet_text_alignment=”default” phone_text_alignment=”default” background_color_opacity=”1″ background_hover_color_opacity=”1″ column_backdrop_filter=”none” column_shadow=”none” column_border_radius=”none” column_link_target=”_self” column_position=”default” gradient_direction=”left_to_right” overlay_strength=”0.3″ width=”1/1″ tablet_width_inherit=”default” animation_type=”default” bg_image_animation=”none” border_type=”simple” column_border_width=”none” column_border_style=”solid”][divider line_type=”No Line” custom_height=”30px”][/vc_column][/vc_row][vc_row type=”full_width_background” full_screen_row_position=”middle” column_margin=”default” column_direction=”default” column_direction_tablet=”default” column_direction_phone=”default” scene_position=”center” top_padding=”3%” constrain_group_1=”yes” bottom_padding=”3%” top_margin=”40″ text_color=”dark” text_align=”left” row_border_radius=”none” row_border_radius_applies=”bg” overflow=”visible” disable_element=”yes” overlay_strength=”0.3″ gradient_direction=”left_to_right” shape_divider_position=”bottom” bg_image_animation=”none” gradient_type=”default” shape_type=””][vc_column column_padding=”no-extra-padding” column_padding_tablet=”inherit” column_padding_phone=”inherit” column_padding_position=”all” column_element_direction_desktop=”default” column_element_spacing=”default” desktop_text_alignment=”default” tablet_text_alignment=”default” phone_text_alignment=”default” background_color_opacity=”1″ background_hover_color_opacity=”1″ column_backdrop_filter=”none” column_shadow=”none” column_border_radius=”none” column_link_target=”_self” column_position=”default” gradient_direction=”left_to_right” overlay_strength=”0.3″ width=”1/1″ tablet_width_inherit=”default” animation_type=”default” bg_image_animation=”none” border_type=”simple” column_border_width=”none” column_border_style=”solid”][nectar_cta btn_style=”arrow-animation” heading_tag=”h5″ button_color=”accent-color” button_color_hover=”#c4663e” text_color=”#ffffff” button_border_color=”#ffffff” button_border_thickness=”2px” link_type=”new_tab” alignment=”center” alignment_tablet=”default” alignment_phone=”default” constrain_group_3=”yes” constrain_group_4=”yes” display=”block” display_tablet=”inherit” display_phone=”inherit” link_text=”SPONSOR OR ATTEND!” padding_top=”15″ padding_bottom=”15″ padding_left=”40″ padding_right=”40″][/vc_column][/vc_row][vc_row type=”full_width_background” full_screen_row_position=”middle” column_margin=”default” column_direction=”default” column_direction_tablet=”default” column_direction_phone=”default” bg_color=”#2d8aac” scene_position=”center” top_padding=”3%” constrain_group_1=”yes” bottom_padding=”3%” text_color=”dark” text_align=”center” row_border_radius=”none” row_border_radius_applies=”bg” overflow=”visible” overlay_strength=”0.3″ gradient_direction=”left_to_right” shape_divider_position=”bottom” bg_image_animation=”none” gradient_type=”default” shape_type=””][vc_column column_padding=”no-extra-padding” column_padding_tablet=”inherit” column_padding_phone=”inherit” column_padding_position=”all” column_element_direction_desktop=”default” column_element_spacing=”default” desktop_text_alignment=”default” tablet_text_alignment=”default” phone_text_alignment=”default” background_color_opacity=”1″ background_hover_color_opacity=”1″ column_backdrop_filter=”none” column_shadow=”none” column_border_radius=”none” column_link_target=”_self” column_position=”default” gradient_direction=”left_to_right” overlay_strength=”0.3″ width=”1/1″ tablet_width_inherit=”default” animation_type=”default” bg_image_animation=”none” border_type=”simple” column_border_width=”none” column_border_style=”solid”][nectar_responsive_text text_color=”#ffffff” text_direction=”default”]\nThank You to Our 2024 Sponsors!\n[/nectar_responsive_text][/vc_column][/vc_row][vc_row type=”in_container” full_screen_row_position=”middle” column_margin=”80px” column_direction=”default” column_direction_tablet=”default” column_direction_phone=”default” scene_position=”center” top_margin=”40px” left_margin=”10%” constrain_group_8=”yes” right_margin=”10%” text_color=”dark” text_align=”left” row_border_radius=”none” row_border_radius_applies=”bg” overflow=”visible” overlay_strength=”0.3″ gradient_direction=”left_to_right” shape_divider_position=”bottom” bg_image_animation=”none” gradient_type=”default” shape_type=””][vc_column column_padding=”no-extra-padding” column_padding_tablet=”inherit” column_padding_phone=”inherit” column_padding_position=”all” column_element_direction_desktop=”default” column_element_spacing=”default” desktop_text_alignment=”default” tablet_text_alignment=”default” phone_text_alignment=”default” background_color_opacity=”1″ background_hover_color_opacity=”1″ column_backdrop_filter=”none” column_shadow=”none” column_border_radius=”none” column_link_target=”_self” column_position=”default” gradient_direction=”left_to_right” overlay_strength=”0.3″ width=”1/4″ tablet_width_inherit=”default” animation_type=”default” bg_image_animation=”none” border_type=”simple” column_border_width=”none” column_border_style=”solid”][nectar_responsive_text text_color=”#2d8aac” text_direction=”default”]\nPresenting Sponsors\n[/nectar_responsive_text][divider line_type=”No Line” custom_height=”20px”][image_with_animation image_url=”365″ image_size=”full” animation_type=”entrance” animation=”None” animation_movement_type=”transform_y” hover_animation=”none” alignment=”” border_radius=”none” box_shadow=”none” image_loading=”default” max_width=”100%” max_width_mobile=”default”][divider line_type=”No Line” custom_height=”40px”][image_with_animation image_url=”1001″ image_size=”full” animation_type=”entrance” animation=”None” animation_movement_type=”transform_y” hover_animation=”none” alignment=”” border_radius=”none” box_shadow=”none” image_loading=”default” max_width=”100%” max_width_mobile=”default”][divider line_type=”No Line” custom_height=”40px”][image_with_animation image_url=”374″ image_size=”full” animation_type=”entrance” animation=”None” animation_movement_type=”transform_y” hover_animation=”none” alignment=”” border_radius=”none” box_shadow=”none” image_loading=”default” max_width=”100%” max_width_mobile=”default”][/vc_column][vc_column column_padding=”no-extra-padding” column_padding_tablet=”inherit” column_padding_phone=”inherit” column_padding_position=”all” column_element_direction_desktop=”default” column_element_spacing=”default” desktop_text_alignment=”default” tablet_text_alignment=”default” phone_text_alignment=”default” background_color_opacity=”1″ background_hover_color_opacity=”1″ column_backdrop_filter=”none” column_shadow=”none” column_border_radius=”none” column_link_target=”_self” column_position=”default” gradient_direction=”left_to_right” overlay_strength=”0.3″ width=”1/4″ tablet_width_inherit=”default” animation_type=”default” bg_image_animation=”none” border_type=”simple” column_border_width=”none” column_border_style=”solid”][nectar_responsive_text text_color=”#2d8aac” text_direction=”default”]\nGrand Prize Sponsor\n[/nectar_responsive_text][divider line_type=”No Line” custom_height=”20px”][image_with_animation image_url=”1002″ image_size=”full” animation_type=”entrance” animation=”None” animation_movement_type=”transform_y” hover_animation=”none” alignment=”” border_radius=”none” box_shadow=”none” image_loading=”default” max_width=”100%” max_width_mobile=”default”][divider line_type=”No Line” custom_height=”60px”][nectar_responsive_text text_color=”#2d8aac” text_direction=”default”]\nDinner Sponsor\n[/nectar_responsive_text][image_with_animation image_url=”1003″ image_size=”full” animation_type=”entrance” animation=”None” animation_movement_type=”transform_y” hover_animation=”none” alignment=”” border_radius=”none” box_shadow=”none” image_loading=”default” max_width=”100%” max_width_mobile=”default”][divider line_type=”No Line” custom_height=”20px”][nectar_responsive_text text_direction=”default”]\nJoleen Cicchinelli\n[/nectar_responsive_text][divider line_type=”No Line” custom_height=”20px”][nectar_responsive_text text_direction=”default”]\nLarry & Lisa Dean\n[/nectar_responsive_text][divider line_type=”No Line” custom_height=”20px”][image_with_animation image_url=”1004″ image_size=”full” animation_type=”entrance” animation=”None” animation_movement_type=”transform_y” hover_animation=”none” alignment=”” border_radius=”none” box_shadow=”none” image_loading=”default” max_width=”100%” max_width_mobile=”default”][divider line_type=”No Line” custom_height=”20px”][image_with_animation image_url=”1005″ image_size=”full” animation_type=”entrance” animation=”None” animation_movement_type=”transform_y” hover_animation=”none” alignment=”” border_radius=”none” box_shadow=”none” image_loading=”default” max_width=”100%” max_width_mobile=”default”][/vc_column][vc_column column_padding=”no-extra-padding” column_padding_tablet=”inherit” column_padding_phone=”inherit” column_padding_position=”all” column_element_direction_desktop=”default” column_element_spacing=”default” desktop_text_alignment=”default” tablet_text_alignment=”default” phone_text_alignment=”default” background_color_opacity=”1″ background_hover_color_opacity=”1″ column_backdrop_filter=”none” column_shadow=”none” column_border_radius=”none” column_link_target=”_self” column_position=”default” gradient_direction=”left_to_right” overlay_strength=”0.3″ width=”1/4″ tablet_width_inherit=”default” animation_type=”default” bg_image_animation=”none” border_type=”simple” column_border_width=”none” column_border_style=”solid”][nectar_responsive_text text_color=”#2d8aac” text_direction=”default”]\nTable Sponsors\n[/nectar_responsive_text][divider line_type=”No Line” custom_height=”20px”][nectar_responsive_text text_direction=”default”]\nKyle Blythin\n[/nectar_responsive_text][divider line_type=”No Line” custom_height=”20px”][image_with_animation image_url=”1006″ image_size=”full” animation_type=”entrance” animation=”None” animation_movement_type=”transform_y” hover_animation=”none” constrain_group_1=”yes” alignment=”” border_radius=”none” box_shadow=”none” image_loading=”default” max_width=”100%” max_width_mobile=”default” margin_top=”20px” margin_bottom=”20px”][divider line_type=”No Line” custom_height=”20px”][nectar_responsive_text text_direction=”default”]\nAthena Daniels\n[/nectar_responsive_text][divider line_type=”No Line” custom_height=”20px”][nectar_responsive_text text_direction=”default”]\nDora Eleo\n[/nectar_responsive_text][divider line_type=”No Line” custom_height=”20px”][nectar_responsive_text text_direction=”default”]\nKristen Manes\n[/nectar_responsive_text][divider line_type=”No Line” custom_height=”20px”][image_with_animation image_url=”1007″ image_size=”full” animation_type=”entrance” animation=”None” animation_movement_type=”transform_y” hover_animation=”none” constrain_group_1=”yes” alignment=”” border_radius=”none” box_shadow=”none” image_loading=”default” max_width=”100%” max_width_mobile=”default” margin_top=”10px” margin_bottom=”10px”][divider line_type=”No Line” custom_height=”20px”][image_with_animation image_url=”1002″ image_size=”full” animation_type=”entrance” animation=”None” animation_movement_type=”transform_y” hover_animation=”none” constrain_group_1=”yes” alignment=”” border_radius=”none” box_shadow=”none” image_loading=”default” max_width=”100%” max_width_mobile=”default” margin_top=”10px” margin_bottom=”10px”][divider line_type=”No Line” custom_height=”20px”][nectar_responsive_text text_direction=”default”]\nLeanne Wicks\n[/nectar_responsive_text][divider line_type=”No Line” custom_height=”20px”][nectar_responsive_text text_direction=”default”]\nJerrie Yerman\n[/nectar_responsive_text][/vc_column][vc_column column_padding=”no-extra-padding” column_padding_tablet=”inherit” column_padding_phone=”inherit” column_padding_position=”all” column_element_direction_desktop=”default” column_element_spacing=”default” desktop_text_alignment=”default” tablet_text_alignment=”default” phone_text_alignment=”default” background_color_opacity=”1″ background_hover_color_opacity=”1″ column_backdrop_filter=”none” column_shadow=”none” column_border_radius=”none” column_link_target=”_self” column_position=”default” gradient_direction=”left_to_right” overlay_strength=”0.3″ width=”1/4″ tablet_width_inherit=”default” animation_type=”default” bg_image_animation=”none” border_type=”simple” column_border_width=”none” column_border_style=”solid”][nectar_responsive_text text_color=”#2d8aac” text_direction=”default”]\nGame Sponsors\n[/nectar_responsive_text][divider line_type=”No Line” custom_height=”20px”][image_with_animation image_url=”1006″ image_size=”full” animation_type=”entrance” animation=”None” animation_movement_type=”transform_y” hover_animation=”none” constrain_group_1=”yes” alignment=”” border_radius=”none” box_shadow=”none” image_loading=”default” max_width=”100%” max_width_mobile=”default” margin_top=”20px” margin_bottom=”20px”][divider line_type=”No Line” custom_height=”20px”][image_with_animation image_url=”1013″ image_size=”full” animation_type=”entrance” animation=”None” animation_movement_type=”transform_y” hover_animation=”none” constrain_group_1=”yes” alignment=”” border_radius=”none” box_shadow=”none” image_loading=”default” max_width=”100%” max_width_mobile=”default” margin_top=”20px” margin_bottom=”20px”][divider line_type=”No Line” custom_height=”20px”][nectar_responsive_text text_direction=”default”]\nJudy Steiner & John Krajewski\n[/nectar_responsive_text][divider line_type=”No Line” custom_height=”20px”][nectar_responsive_text text_direction=”default”]\nThe Foskett Family\n[/nectar_responsive_text][divider line_type=”No Line” custom_height=”20px”][nectar_responsive_text text_direction=”default”]\nMary Hanley\n[/nectar_responsive_text][/vc_column][/vc_row]
URL:https://summithumane.org/event/bow-wow-bingo/
LOCATION:St. George Fellowship Center\, 3204 Ridgewood Rd\, Fairlawn\, OH\, 44333\, United States
CATEGORIES:Special Events
ATTACH;FMTTYPE=image/jpeg:https://summithumane.org/wp-content/uploads/2024/07/BWB-featured.jpg
END:VEVENT
END:VCALENDAR